BEGIN:VCALENDAR
VERSION:2.0
PRODID:-//OptieAcademy - ECPv5.1.5//NONSGML v1.0//EN
CALSCALE:GREGORIAN
METHOD:PUBLISH
X-WR-CALNAME:OptieAcademy
X-ORIGINAL-URL:https://www.optieacademy.nl
X-WR-CALDESC:Evenementen voor OptieAcademy
BEGIN:VTIMEZONE
TZID:Europe/Paris
BEGIN:DAYLIGHT
TZOFFSETFROM:+0100
TZOFFSETTO:+0200
TZNAME:CEST
DTSTART:20150329T010000
END:DAYLIGHT
BEGIN:STANDARD
TZOFFSETFROM:+0200
TZOFFSETTO:+0100
TZNAME:CET
DTSTART:20151025T010000
END:STANDARD
END:VTIMEZONE
BEGIN:VEVENT
DTSTART;TZID=Europe/Paris:20150505T200000
DTEND;TZID=Europe/Paris:20150505T210000
DTSTAMP:20260422T101657
CREATED:20150501T192333Z
LAST-MODIFIED:20150501T192333Z
UID:8740-1430856000-1430859600@www.optieacademy.nl
SUMMARY:Webinar Live Trading Opties voor Coachingsdeelnemers
DESCRIPTION:Besloten Live Trading Webinar speciaal voor Coachingsdeelnemers. We zullen kansen analyseren met optie strategieen op de Amerikaanse markt. Zie programma Kwartaal Coaching… Duur: in principe 1 uur tenzij er langer nodig is \n
URL:https://www.optieacademy.nl/programma/webinar-live-trading-opties-voor-coachingsdeelnemers/
END:VEVENT
END:VCALENDAR