BEGIN:VCALENDAR
VERSION:2.0
PRODID:-//OptieAcademy - ECPv5.1.5//NONSGML v1.0//EN
CALSCALE:GREGORIAN
METHOD:PUBLISH
X-WR-CALNAME:OptieAcademy
X-ORIGINAL-URL:https://www.optieacademy.nl
X-WR-CALDESC:Evenementen voor OptieAcademy
BEGIN:VTIMEZONE
TZID:Europe/Paris
BEGIN:DAYLIGHT
TZOFFSETFROM:+0100
TZOFFSETTO:+0200
TZNAME:CEST
DTSTART:20150329T010000
END:DAYLIGHT
BEGIN:STANDARD
TZOFFSETFROM:+0200
TZOFFSETTO:+0100
TZNAME:CET
DTSTART:20151025T010000
END:STANDARD
END:VTIMEZONE
BEGIN:VEVENT
DTSTART;TZID=Europe/Paris:20151117T200000
DTEND;TZID=Europe/Paris:20151117T210000
DTSTAMP:20260420T182602
CREATED:20151114T150516Z
LAST-MODIFIED:20151114T150516Z
UID:9499-1447790400-1447794000@www.optieacademy.nl
SUMMARY:Webinar 2 Opleidingstraject Opties
DESCRIPTION:Webinar Opleidingstraject Opties exclusief voor coachingsdeelnemers: https://www.optieacademy.nl/opleidingstraject-opties/ \n
URL:https://www.optieacademy.nl/programma/webinar-2-opleidingstraject-opties/
END:VEVENT
END:VCALENDAR