BEGIN:VCALENDAR
VERSION:2.0
PRODID:-//OptieAcademy - ECPv5.1.5//NONSGML v1.0//EN
CALSCALE:GREGORIAN
METHOD:PUBLISH
X-WR-CALNAME:OptieAcademy
X-ORIGINAL-URL:https://www.optieacademy.nl
X-WR-CALDESC:Evenementen voor OptieAcademy
BEGIN:VTIMEZONE
TZID:Europe/Paris
BEGIN:DAYLIGHT
TZOFFSETFROM:+0100
TZOFFSETTO:+0200
TZNAME:CEST
DTSTART:20150329T010000
END:DAYLIGHT
BEGIN:STANDARD
TZOFFSETFROM:+0200
TZOFFSETTO:+0100
TZNAME:CET
DTSTART:20151025T010000
END:STANDARD
END:VTIMEZONE
BEGIN:VEVENT
DTSTART;TZID=Europe/Paris:20150613T150000
DTEND;TZID=Europe/Paris:20150613T180000
DTSTAMP:20260421T213433
CREATED:20150602T124450Z
LAST-MODIFIED:20150618T143718Z
UID:8851-1434207600-1434218400@www.optieacademy.nl
SUMMARY:Viering 4-jarig jubileum OptieAcademy
DESCRIPTION:Op zaterdag 13 juni viert OptieAcademy het 4-jarige jubileum bij Golfclub de Kromme Rijn in Bunnik van 15:00 uur tot 18.00 uur. \nTijdens deze sessie praten wij u graag bij over wat wij de laatste jaren allemaal hebben bereikt\, zoals Masterclasses\, OptieAanbevelingen\, coachingsprogramma’s\, tradingweken en ebooks. \n \nAmbitieuze plannen voor tweede helft 2015\nDaarnaast ontvouwen wij onze ambitieuze plannen voor de tweede helft van dit jaar en geven wij onze visie op de markt. Uiteraard is er volop ruimte voor uw vragen\, want het wordt een interactieve middag.\nVanaf 15:00 uur bent u van harte welkom! We starten de middag met een korte terugblik en onze plannen en daarna wordt het onder het genot van een drankje nog wat informeler ingevuld. \nMogelijkheid korte presentatie te houden\nWilt u als gewaardeerde relatie uw ervaringen met OptieAcademy delen of presenteren\, dan kunt u dit aan ons kenbaar maken. \nU kunt uw plaats reserveren voor deze speciale relatiemiddag door een e-mail te sturen naar info@optieacademy.nl \nMet vriendelijke groeten\,\nOptieAcademy\nVoor een optie-maal resultaat \nJan Robert Schutte 06-50746210 en Harry Klip 06-31903957\nE-mail: info@optieacademy.nl \n  \n  \n
URL:https://www.optieacademy.nl/programma/viering-4-jarig-jubileum-optieacademy/
LOCATION:Golfclub Kromme rijn\, Sportlaan 6\, Bunnik\, 3981 HP\, Nederland
END:VEVENT
END:VCALENDAR