BEGIN:VCALENDAR
VERSION:2.0
PRODID:-//OptieAcademy - ECPv5.1.5//NONSGML v1.0//EN
CALSCALE:GREGORIAN
METHOD:PUBLISH
X-WR-CALNAME:OptieAcademy
X-ORIGINAL-URL:https://www.optieacademy.nl
X-WR-CALDESC:Evenementen voor OptieAcademy
BEGIN:VTIMEZONE
TZID:Europe/Paris
BEGIN:DAYLIGHT
TZOFFSETFROM:+0100
TZOFFSETTO:+0200
TZNAME:CEST
DTSTART:20140330T010000
END:DAYLIGHT
BEGIN:STANDARD
TZOFFSETFROM:+0200
TZOFFSETTO:+0100
TZNAME:CET
DTSTART:20141026T010000
END:STANDARD
END:VTIMEZONE
BEGIN:VEVENT
DTSTART;VALUE=DATE:20140603
DTEND;VALUE=DATE:20140610
DTSTAMP:20260423T173014
CREATED:20140606T170835Z
LAST-MODIFIED:20140606T170835Z
UID:7472-1401753600-1402358399@www.optieacademy.nl
SUMMARY:Trading Week Istanbul
DESCRIPTION:Prijs €1397 per deelnemer/trader. Partnerprijs: €997. Inclusief hotel\, exclusief vlucht. \n
URL:https://www.optieacademy.nl/programma/trading-week-istanbul/
LOCATION:Istanbul\, istanbul\, Turkije
END:VEVENT
END:VCALENDAR