BEGIN:VCALENDAR
VERSION:2.0
PRODID:-//OptieAcademy - ECPv5.1.5//NONSGML v1.0//EN
CALSCALE:GREGORIAN
METHOD:PUBLISH
X-WR-CALNAME:OptieAcademy
X-ORIGINAL-URL:https://www.optieacademy.nl
X-WR-CALDESC:Evenementen voor OptieAcademy
BEGIN:VTIMEZONE
TZID:Europe/Paris
BEGIN:DAYLIGHT
TZOFFSETFROM:+0100
TZOFFSETTO:+0200
TZNAME:CEST
DTSTART:20150329T010000
END:DAYLIGHT
BEGIN:STANDARD
TZOFFSETFROM:+0200
TZOFFSETTO:+0100
TZNAME:CET
DTSTART:20151025T010000
END:STANDARD
END:VTIMEZONE
BEGIN:VEVENT
DTSTART;TZID=Europe/Paris:20151119T193000
DTEND;TZID=Europe/Paris:20151119T220000
DTSTAMP:20260420T170433
CREATED:20151004T183533Z
LAST-MODIFIED:20151004T183630Z
UID:9331-1447961400-1447970400@www.optieacademy.nl
SUMMARY:Tradersclub Masterclass Futuretrading op de DAX\, Eurostoxx50 en Bund
DESCRIPTION:Deze workshop\, verzorgd door Tradersclub in Maarsbergen zal geheel in het teken staan van Eurex futuretrading op de DAX\, Eurostoxx50 en Bund. Professioneel trader Jurjen Damsté zal u vertellen over zijn manier van handelen in termijncontracten op de Eurex-beurs. Jurjen gaat in op het bepalen van entries en exits met speciale aandacht voor money management. Jurjen werkt samen met Jan Robert Schutte en Harry Klip van de OptieAcademy die ook een gedeelte van het programma voor zijn rekening nemen. Handelstechniek en actuele kansen op de beurs zijn de kernwoorden van deze avond. Zeer leerzaam voor actieve traders en traders in spé. \nNa afloop weer een gezellige borrel in het hotel. Datum: 19-11-2015\nTijd:     19:30 tot 22:00\nLocatie: Hotel Maarsbergen te Maarsbergen \n
URL:https://www.optieacademy.nl/programma/tradersclub-masterclass-futuretrading-op-de-dax-eurostoxx50-en-bund/
LOCATION:Hotel Maarsbergen\, Woudenbergseweg 44\, Maarsbergen\, Utrecht\, 3953 MH\, Nederland
END:VEVENT
END:VCALENDAR