BEGIN:VCALENDAR
VERSION:2.0
PRODID:-//OptieAcademy - ECPv5.1.5//NONSGML v1.0//EN
CALSCALE:GREGORIAN
METHOD:PUBLISH
X-WR-CALNAME:OptieAcademy
X-ORIGINAL-URL:https://www.optieacademy.nl
X-WR-CALDESC:Evenementen voor OptieAcademy
BEGIN:VTIMEZONE
TZID:Europe/Paris
BEGIN:DAYLIGHT
TZOFFSETFROM:+0100
TZOFFSETTO:+0200
TZNAME:CEST
DTSTART:20150329T010000
END:DAYLIGHT
BEGIN:STANDARD
TZOFFSETFROM:+0200
TZOFFSETTO:+0100
TZNAME:CET
DTSTART:20151025T010000
END:STANDARD
END:VTIMEZONE
BEGIN:VEVENT
DTSTART;TZID=Europe/Paris:20150930T190000
DTEND;TZID=Europe/Paris:20150930T220000
DTSTAMP:20260421T074907
CREATED:20150908T073938Z
LAST-MODIFIED:20150909T135454Z
UID:9203-1443639600-1443650400@www.optieacademy.nl
SUMMARY:Seminar Opties voor de ambitieuze beginner
DESCRIPTION:Hierbij willen wij u graag uitnodigen voor het seminar opties voor de ambitieuze beginner die we op woensdag 30 september verzorgen bij Golfclub Kromme Rijn te Bunnik. \nHarry en Jan Robert OptieAcademy\nDit seminar is speciaal bedoeld voor beleggers met weinig tot geen ervaring met opties. Het seminar zal in het teken staan van onze filosofie (4 M’s) en handelsstrategie die we hanteren voor onze OptieAanbevelingen. We laten zien hoe u gemakkelijk met opties kunt werken in iedere markt. We zullen actuele kansen in de markt aangeven en een optiestrategie uiteenzetten. Uiteraard is er volop gelegenheid tot het stellen van vragen. \nIn een informele setting kunt u na afloop persoonlijk kennismaken met het OptieAcademy-team en andere deelnemers. U kunt u aanmelden per e-mail of per telefoon. Vol = vol. \nHet seminar vindt plaats in Bunnik\, van 19:00 uur tot 22:00 uur. Kosten bedragen €20 per deelnemer\, inclusief koffie\, thee en water. De eerste 5 aanmelders hoeven niet te betalen. \nU kunt uw aanmelding per e-mail of per telefoon aan ons doorgeven. \nMet vriendelijke groeten\,\nOptieAcademy\nVoor een optie-maal resultaat \nJan Robert Schutte 06-50746210 en Harry Klip 06-31903957\nE-mail: info@optieacademy.nl \n
URL:https://www.optieacademy.nl/programma/seminar-opties-voor-de-ambitieuze-beginner-4/
LOCATION:Golfclub Kromme rijn\, Sportlaan 6\, Bunnik\, 3981 HP\, Nederland
END:VEVENT
END:VCALENDAR