BEGIN:VCALENDAR
VERSION:2.0
PRODID:-//OptieAcademy - ECPv5.1.5//NONSGML v1.0//EN
CALSCALE:GREGORIAN
METHOD:PUBLISH
X-WR-CALNAME:OptieAcademy
X-ORIGINAL-URL:https://www.optieacademy.nl
X-WR-CALDESC:Evenementen voor OptieAcademy
BEGIN:VTIMEZONE
TZID:Europe/Paris
BEGIN:DAYLIGHT
TZOFFSETFROM:+0100
TZOFFSETTO:+0200
TZNAME:CEST
DTSTART:20150329T010000
END:DAYLIGHT
BEGIN:STANDARD
TZOFFSETFROM:+0200
TZOFFSETTO:+0100
TZNAME:CET
DTSTART:20151025T010000
END:STANDARD
END:VTIMEZONE
BEGIN:VEVENT
DTSTART;TZID=Europe/Paris:20150819T190000
DTEND;TZID=Europe/Paris:20150819T220000
DTSTAMP:20260421T121733
CREATED:20150710T201800Z
LAST-MODIFIED:20150710T202332Z
UID:9024-1440010800-1440021600@www.optieacademy.nl
SUMMARY:Seminar Opties voor de ambitieuze beginner
DESCRIPTION:Hierbij willen wij u graag uitnodigen voor het seminar Opties voor de ambitieuze beginner dat we op woensdag 19 augustus verzorgen bij Beursbox (Tom Lassing) te Best. Dit seminar is speciaal bedoeld voor beleggers met weinig tot geen ervaring met opties. Het seminar zal in het teken staan van onze filosofie (4 M’s) en handelsstrategie. \nHarry en Jan Robert OptieAcademy\nWe laten zien hoe u gemakkelijk met opties in iedere markt kunt werken. We zullen actuele kansen in de markt aangeven en een aantal optiestrategieën uiteenzetten. Uiteraard is er volop gelegenheid tot het stellen van vragen. \nIn een informele setting kunt u na afloop persoonlijk kennismaken met het OptieAcademy-team en andere deelnemers. U kunt u aanmelden per e-mail of per telefoon. Vol = vol. Het seminar vindt plaats in Best\, van 19:00 uur tot 22:00 uur. Kosten bedragen €20 per deelnemer\, inclusief koffie\, thee\, water parkeergelegenheid. \nU kunt uw aanmelding per e-mail of per telefoon aan ons doorgeven. Wij wensen u veel succes met het (optie)beleggen en heten u graag van harte welkom! \nMet vriendelijke groeten\,\nOptieAcademy\nVoor een optie-maal resultaat \nJan Robert Schutte 06-50746210 en Harry Klip 06-31903957\nE-mail: info@optieacademy.nl \n
URL:https://www.optieacademy.nl/programma/seminar-opties-voor-de-ambitieuze-beginner-3/
LOCATION:Beursbox\, Sint-Oedenrodeseweg 41\, Best\, Noord-Brabant\, 5681 PH\, Nederland
END:VEVENT
END:VCALENDAR