BEGIN:VCALENDAR
VERSION:2.0
PRODID:-//OptieAcademy - ECPv5.1.5//NONSGML v1.0//EN
CALSCALE:GREGORIAN
METHOD:PUBLISH
X-WR-CALNAME:OptieAcademy
X-ORIGINAL-URL:https://www.optieacademy.nl
X-WR-CALDESC:Evenementen voor OptieAcademy
BEGIN:VTIMEZONE
TZID:Europe/Paris
BEGIN:DAYLIGHT
TZOFFSETFROM:+0100
TZOFFSETTO:+0200
TZNAME:CEST
DTSTART:20150329T010000
END:DAYLIGHT
BEGIN:STANDARD
TZOFFSETFROM:+0200
TZOFFSETTO:+0100
TZNAME:CET
DTSTART:20151025T010000
END:STANDARD
END:VTIMEZONE
BEGIN:VEVENT
DTSTART;TZID=Europe/Paris:20151121T080000
DTEND;TZID=Europe/Paris:20151121T160000
DTSTAMP:20260420T154214
CREATED:20150912T113638Z
LAST-MODIFIED:20151113T160117Z
UID:9224-1448092800-1448121600@www.optieacademy.nl
SUMMARY:Obligatie Crash Masterclass i.s.m. Cor Wijtvliet
DESCRIPTION:OptieAcademy en Cor Wijtvliet (hoofdredacteur van Beurshalte.nl)\, organiseren samen op zaterdag 21 november een unieke Obligatie Crash Masterclass. \n\n\nDe afgelopen maanden heeft u kunnen ervaren dat de beurs behalve fors omhoog ook omlaag kan. Aan deze daling kon u veel geld verdienen\, maar slechts weinigen hebben dat ook gedaan. Niet alleen aandelen zijn gedaald\, ook de afgelopen jaren flink gestegen Nederlandse en Duitse obligaties bleken dit jaar niet meer de veilige haven te zijn. De rentes zijn de afgelopen jaren tot het nulpunt gedaald\, waarbij het risico op een (forse) rentestijging (lees: obligatiecrash) aanzienlijk is gestegen. \nVeel beleggers vroegen aan ons hoe je je kunt wapenen tegen een obligatiecrash\, nu het risico groot is geworden bij deze ultra-lage rentestanden. \nDaarom organiseren OptieAcademy en Cor Wijtvliet een Obligatie Crash Masterclass\, zodat u van een mogelijke obligatiecrash kunt profiteren. \nU leert: \n\nDe actuele situatie te doorgronden van de financiële markten\nWat de macro-economische situatie van de obligatiemarkt is\nMet welke risico’s de obligatiemarkt te maken heeft\nMet welke opties u het beste kunt inspelen op een obligatiecrash\nHoe u uw portefeuille kunt beschermen tegen een obligatiecrash\nOptiestrategieën op verschillende obligatiefutures\n\nBescherming portefeuille en inspelen op daling\nNa deze intensieve en interactieve dag\, kunt u zelfstandig posities innemen om in te spelen op een obligatiecrash. Enerzijds leert u hoe u uw portefeuille met opties kunt beschermen tegen een mogelijke crash en anderzijds leert u hoe u veel geld kunt verdienen aan een crash door het juist toepassen van opties. \nTijdens deze volledig verzorgde Masterclass komen naast de macro-economische achtergronden van de obligatiemarkt ook concrete optiestrategieën om in te spelen op een dalende obligatiemarkt aan bod. \nDaarnaast wordt aandacht geschonken aan Technische Analyse voor de timing van de markt en hoe deze om te zetten in handelsstrategieën. Dus wanneer in- en uit de markt te stappen en welke optiestrategie toe te passen \nLocatie: Golfclub Kromme Rijn Bunnik. Van 08:00 uur tot 16:00 uur met aansluitende borrel. Maximaal aantal personen: 20. \nGeheel verzorgde dag voor €297\nDeze masterclass voor €297 is geheel verzorgd met lunch\, koffie\, thee\, frisdrank en gratis parkeerplaats. \n Bonussen \n\n1 maand Optie Aanbevelingen t.w.v. €76\n1 e-book naar keuze t.w.v. €77\n\nTotale waarde bonussen: €153 \nMail naar info@optieacademy voor meer informatie of bel naar 06-50746210 \nOver Cor Wijtvliet \n \nCor Wijtvliet (1954) studeerde middeleeuwse geschiedenis aan de Universiteit van Leiden. In opdracht van het Nederlands Instituut voor het Bank- en Effectenbedrijf (NIBE) schreef hij een proefschrift over de wordingsgeschiedenis van het Nederlandse handelsbankwezen. \nNa zijn periode bij het NIBE en een kortstondig verblijf bij het Centraal Bureau voor de Statistiek is Cor Wijtvliet vanaf 1996 aan de slag gegaan als aandelenanalist. Hij startte deze carrière bij het effectenhuis Wesselius om in 1998 over te stappen naar Van Lanschot Bankiers in Den Bosch. \nIn 2009 heeft hij Wijtvliet Research opgericht en publiceert hij met grote regelmaat nieuwsbrieven\, waaronder voor Beurshalte en OptieAcademy. \n
URL:https://www.optieacademy.nl/programma/obligatie-crash-masterclass-i-s-m-cor-wijtvliet/
LOCATION:Golfclub Kromme rijn\, Sportlaan 6\, Bunnik\, 3981 HP\, Nederland
END:VEVENT
END:VCALENDAR