BEGIN:VCALENDAR
VERSION:2.0
PRODID:-//OptieAcademy - ECPv5.1.5//NONSGML v1.0//EN
CALSCALE:GREGORIAN
METHOD:PUBLISH
X-WR-CALNAME:OptieAcademy
X-ORIGINAL-URL:https://www.optieacademy.nl
X-WR-CALDESC:Evenementen voor OptieAcademy
BEGIN:VTIMEZONE
TZID:Europe/Paris
BEGIN:DAYLIGHT
TZOFFSETFROM:+0100
TZOFFSETTO:+0200
TZNAME:CEST
DTSTART:20150329T010000
END:DAYLIGHT
BEGIN:STANDARD
TZOFFSETFROM:+0200
TZOFFSETTO:+0100
TZNAME:CET
DTSTART:20151025T010000
END:STANDARD
END:VTIMEZONE
BEGIN:VEVENT
DTSTART;TZID=Europe/Paris:20150509T090000
DTEND;TZID=Europe/Paris:20150509T173000
DTSTAMP:20260422T070426
CREATED:20150501T192821Z
LAST-MODIFIED:20150501T192821Z
UID:8741-1431162000-1431192600@www.optieacademy.nl
SUMMARY:Masterclass Technische Analyse voor Gevorderden
DESCRIPTION:Na deze intensieve en interactieve dag\, kunt u zelfstandig succesvol beleggen aan de hand van technische analyse. In deze volledig verzorgde dagsessie komen diverse onderwerpen aan bod\, zoals trendherkenning en betrouwbare patroonherkenning. \nDaarnaast wordt aandacht geschonken aan Money Management en hoe om te gaan met handelsstrategieën op basis van charts. Dus wanneer in- en uit de markt te stappen en welke handelsstrategie toe te passen? \n\n\nU Leert\n\n\n\nTrends in de markt te herkennen.\nBetrouwbare patronen te herkennen.\nHoe in- en uitstapmomenten te bepalen.\nVerschillende strategieën toe te passen in diverse markten:  opwaarts\, zijwaarts en neerwaarts.\nZelfstandig succesvol beleggen op basis van charts.\nIchimoku Cloud\nIn groepjes passende opdrachten/case studies te doen.\n\nGolfclub Kromme Rijn Bunnik. Prijs €397 per deelnemer. Van 09:00 uur tot 17:30 uur met aansluitende borrel. \n Mail naar info@optieacademy voor meer informatie of om aan te melden… \n
URL:https://www.optieacademy.nl/programma/masterclass-technische-analyse-voor-gevorderden-2/
LOCATION:Golfclub Kromme rijn\, Sportlaan 6\, Bunnik\, 3981 HP\, Nederland
END:VEVENT
END:VCALENDAR