BEGIN:VCALENDAR
VERSION:2.0
PRODID:-//OptieAcademy - ECPv5.1.5//NONSGML v1.0//EN
CALSCALE:GREGORIAN
METHOD:PUBLISH
X-WR-CALNAME:OptieAcademy
X-ORIGINAL-URL:https://www.optieacademy.nl
X-WR-CALDESC:Evenementen voor OptieAcademy
BEGIN:VTIMEZONE
TZID:Europe/Paris
BEGIN:DAYLIGHT
TZOFFSETFROM:+0100
TZOFFSETTO:+0200
TZNAME:CEST
DTSTART:20140330T010000
END:DAYLIGHT
BEGIN:STANDARD
TZOFFSETFROM:+0200
TZOFFSETTO:+0100
TZNAME:CET
DTSTART:20141026T010000
END:STANDARD
END:VTIMEZONE
BEGIN:VEVENT
DTSTART;TZID=Europe/Paris:20140923T190000
DTEND;TZID=Europe/Paris:20140923T220000
DTSTAMP:20260423T141329
CREATED:20140908T145924Z
LAST-MODIFIED:20140909T143000Z
UID:7658-1411498800-1411509600@www.optieacademy.nl
SUMMARY:Masterclass OptieAcademy bij IG
DESCRIPTION:Hierbij willen wij u graag op onze kosten uitnodigen voor de Masterclass Rationeel Beleggen in Opties op dinsdagagavond 23 september van 19:00 uur tot 21:00 uur ten kantore van ‘s-Werelds grootste CFD broker IG. Aansluitend is er gelegenheid tot het nuttigen van een drankje en tot nadere kennismaking. Er zijn nog 15 plaatsen beschikbaar en vol=vol.\n   \nOp deze avond kunt u leren hoe u met weinig risico een opti(e)maal resultaat kunt behalen. Risicomanagement zal zeker aan bod komen bij deze Masterclass. We zullen concrete optiestrategieën aanreiken zoals butterflies\, ratiospreads en driepoten. \n \nU leert daarmee dus zowel de theorie als de praktijk en kunt u hierdoor makkelijker kansen in de markt herkennen. Deze Masterclass is bedoeld voor beleggers die al enige ervaring hebben met opties. Het seminar vangt aan om 19:00 uur in het WTC Amsterdam. Er zijn gratis parkeerkaarten van maximaal 2 uur verkrijgbaar voor de parkeergarage. U kunt zich telefonisch danwel via e-mail inschrijven…. \nWij wensen u veel succes met het (optie)beleggen en heten u binnenkort graag van harte welkom! \nMet vriendelijke groeten\,\nOptieAcademy\nVoor een optie-maal resultaat \nJan Robert Schutte 06-50746210 en Harry Klip 06-31903957\nE-mail: info@optieacademy.nl \n
URL:https://www.optieacademy.nl/programma/masterclass-optieacademy-bij-ig/
LOCATION:IG\, Strawinskylaan 387\, Amsterdam\, Noord-Holland\, 1077 XX\, Nederland
END:VEVENT
END:VCALENDAR