BEGIN:VCALENDAR
VERSION:2.0
PRODID:-//OptieAcademy - ECPv5.1.5//NONSGML v1.0//EN
CALSCALE:GREGORIAN
METHOD:PUBLISH
X-WR-CALNAME:OptieAcademy
X-ORIGINAL-URL:https://www.optieacademy.nl
X-WR-CALDESC:Evenementen voor OptieAcademy
BEGIN:VTIMEZONE
TZID:Europe/Paris
BEGIN:DAYLIGHT
TZOFFSETFROM:+0100
TZOFFSETTO:+0200
TZNAME:CEST
DTSTART:20140330T010000
END:DAYLIGHT
BEGIN:STANDARD
TZOFFSETFROM:+0200
TZOFFSETTO:+0100
TZNAME:CET
DTSTART:20141026T010000
END:STANDARD
END:VTIMEZONE
BEGIN:VEVENT
DTSTART;TZID=Europe/Paris:20140718T090000
DTEND;TZID=Europe/Paris:20140718T173000
DTSTAMP:20260423T143620
CREATED:20140606T171439Z
LAST-MODIFIED:20140613T130413Z
UID:7478-1405674000-1405704600@www.optieacademy.nl
SUMMARY:Masterclass Optie-maal Presteren i.s.m. sportpsycholoog Merijn de Bruin 
DESCRIPTION:Masterclass Optie-maal Presteren i.s.m. sportpsycholoog Merijn de Bruin Golfclub Kromme Rijn Bunnik. Prijs €397 per deelnemer. Van 09:00 uur tot 17:30 uur met aansluitende borrel. \n
URL:https://www.optieacademy.nl/programma/masterclass-optie-maal-presteren-i-s-m-sportpsycholoog-merijn-de-bruin/
LOCATION:Golfclub Kromme rijn\, Sportlaan 6\, Bunnik\, 3981 HP\, Nederland
END:VEVENT
END:VCALENDAR