BEGIN:VCALENDAR
VERSION:2.0
PRODID:-//OptieAcademy - ECPv5.1.5//NONSGML v1.0//EN
CALSCALE:GREGORIAN
METHOD:PUBLISH
X-WR-CALNAME:OptieAcademy
X-ORIGINAL-URL:https://www.optieacademy.nl
X-WR-CALDESC:Evenementen voor OptieAcademy
BEGIN:VTIMEZONE
TZID:Europe/Paris
BEGIN:DAYLIGHT
TZOFFSETFROM:+0100
TZOFFSETTO:+0200
TZNAME:CEST
DTSTART:20140330T010000
END:DAYLIGHT
BEGIN:STANDARD
TZOFFSETFROM:+0200
TZOFFSETTO:+0100
TZNAME:CET
DTSTART:20141026T010000
END:STANDARD
END:VTIMEZONE
BEGIN:VEVENT
DTSTART;TZID=Europe/Paris:20141203T090000
DTEND;TZID=Europe/Paris:20141203T173000
DTSTAMP:20260423T031042
CREATED:20141002T130834Z
LAST-MODIFIED:20141031T154839Z
UID:7774-1417597200-1417627800@www.optieacademy.nl
SUMMARY:Masterclass Live Trading met Opties i.s.m. Rombout Kerstens
DESCRIPTION:Handel met OptieAcademy succesvol in opties als een professional. U leert een eigen handelsplan opstellen\, entries en exits te bepalen. Daarnaast wordt aandacht besteed aan Money Management. U traint om een winstgevende mindset te verkrijgen voor een beter trading resultaat. \nTijdens deze live trading dag geeft gastdocent Rombout Kerstens een workshop over de legendarische‘Turtle Trading’ techniek. \nU Leert: \n– Traden in Opties \n– Eigen) Handelsplan opstellen \n– Timing technieken (entry en exit bepalen) \n– Money Management/Risico Management \n– Winstgevende mindset vormen voor een beter trading resultaat \n– Live (of paper) trading (naar eigen wens) \n– Turtle Trading techniek door gastdocent Rombout Kerstens \nBonussen\n\n\n\n\nTotale waarde 152 euro \n\n\n\n1 maand Optie Aanbevelingen t.w.v. 75 euro\n1 e-book naar keuze t.w.v. 77 euro\n\n\n\n
URL:https://www.optieacademy.nl/programma/masterclass-live-trading-met-opties/
LOCATION:Golfclub Kromme rijn\, Sportlaan 6\, Bunnik\, 3981 HP\, Nederland
END:VEVENT
END:VCALENDAR