BEGIN:VCALENDAR
VERSION:2.0
PRODID:-//OptieAcademy - ECPv5.1.5//NONSGML v1.0//EN
CALSCALE:GREGORIAN
METHOD:PUBLISH
X-WR-CALNAME:OptieAcademy
X-ORIGINAL-URL:https://www.optieacademy.nl
X-WR-CALDESC:Evenementen voor OptieAcademy
BEGIN:VTIMEZONE
TZID:Europe/Paris
BEGIN:DAYLIGHT
TZOFFSETFROM:+0100
TZOFFSETTO:+0200
TZNAME:CEST
DTSTART:20140330T010000
END:DAYLIGHT
BEGIN:STANDARD
TZOFFSETFROM:+0200
TZOFFSETTO:+0100
TZNAME:CET
DTSTART:20141026T010000
END:STANDARD
END:VTIMEZONE
BEGIN:VEVENT
DTSTART;VALUE=DATE:20141016
DTEND;VALUE=DATE:20141017
DTSTAMP:20260423T072421
CREATED:20140606T171157Z
LAST-MODIFIED:20141014T200304Z
UID:7474-1413417600-1413503999@www.optieacademy.nl
SUMMARY:Masterclass Opties voor Gevorderden
DESCRIPTION:Na deze intensieve en interactieve dag\, kunt u zelfstandig succesvol beleggen met opties. In deze volledig verzorgde dagsessie komen de grieken van opties aan bod\, alsmede diverse strategieën\, waaronder spreads\, straddles en strangles. \nDaarnaast wordt aandacht geschonken aan Money Management\, Technische Analyse en hoe om te gaan met handelsstrategieën. Dus wanneer in- en uit de markt te stappen en welke optiestrategie toe te passen? \n\n\nU Leert\n\n\n\nVerschil in risico tussen Long/Short Call en Put.\nOptiegrieken op optieposities\, delta\, gamma\, vega\, rho\nHoe extra rendement te maken op aandelen.\nHoe aandelen met korting te kopen.\nOptiestrategieën: Butterflies\, (Ratio)Spreads\, Straddles\, Strangles\, – Driepoten\, Conversies en Reversals.\nVerschillende strategieën toe te passen in diverse markten: Bullish\, Bearish en Neutral.\nZelfstandig succesvol beleggen in opties.\nIn groepjes passende opdrachten/case studies te doen.\n\nKlik hier voor meer informatie of u aan te melden… \n
URL:https://www.optieacademy.nl/programma/masterclass-basis-opties/
LOCATION:OpdeZaak\, Planetenbaan 20-59\, Maarssen\, 3606 AK
END:VEVENT
END:VCALENDAR