BEGIN:VCALENDAR
VERSION:2.0
PRODID:-//OptieAcademy - ECPv5.1.5//NONSGML v1.0//EN
CALSCALE:GREGORIAN
METHOD:PUBLISH
X-WR-CALNAME:OptieAcademy
X-ORIGINAL-URL:https://www.optieacademy.nl
X-WR-CALDESC:Evenementen voor OptieAcademy
BEGIN:VTIMEZONE
TZID:Europe/Paris
BEGIN:DAYLIGHT
TZOFFSETFROM:+0100
TZOFFSETTO:+0200
TZNAME:CEST
DTSTART:20140330T010000
END:DAYLIGHT
BEGIN:STANDARD
TZOFFSETFROM:+0200
TZOFFSETTO:+0100
TZNAME:CET
DTSTART:20141026T010000
END:STANDARD
END:VTIMEZONE
BEGIN:VEVENT
DTSTART;TZID=Europe/Paris:20140905T090000
DTEND;TZID=Europe/Paris:20140905T173000
DTSTAMP:20260423T141642
CREATED:20140727T211729Z
LAST-MODIFIED:20140901T211230Z
UID:7611-1409907600-1409938200@www.optieacademy.nl
SUMMARY:Masterclass Basis Opties
DESCRIPTION:Na deze intensieve en interactieve dag\, kunt u zelfstandig succesvol beleggen met opties. In deze volledig verzorgde dagsessie komen de basiselementen van opties aan bod\, alsmede diverse strategieën\, waaronder spreads\, straddles en strangles. \n\nDaarnaast wordt aandacht geschonken aan Money Management\, Technische Analyse en hoe om te gaan met handelsstrategieën. Dus wanneer in- en uit de markt te stappen en welke optiestrategie toe te passen? \nU leert:\n\nVerschil in risico tussen Long/Short Call en Put.\nOptiegrieken: waaronder de delta.\nHoe extra rendement te maken op aandelen.\nHoe aandelen met korting te kopen.\nOptiestrategieën goed toe te passen: zoals call- en putspreads\, straddles\, strangle\, credit- en debitspreads.\nVerschillende strategieën toe te passen in diverse markten: Bullish\, Bearish en Neutral.\nZelfstandig succesvol beleggen in opties.\nIn groepjes passende opdrachten/case studies te doen.\n\n\nLocatie: Golfclub Kromme Rijn Bunnik. Van 09:00 uur tot 17:30 uur met aansluitende borrel. \nInformatie/aanmelden: info@optieacademy.nl of via 06-50746210 \nKlik hier voor het programma of om u aan te melden… \n
URL:https://www.optieacademy.nl/programma/masterclass-basis-opties-2/
LOCATION:Golfclub Kromme rijn\, Sportlaan 6\, Bunnik\, 3981 HP\, Nederland
END:VEVENT
END:VCALENDAR