BEGIN:VCALENDAR
VERSION:2.0
PRODID:-//OptieAcademy - ECPv5.1.5//NONSGML v1.0//EN
CALSCALE:GREGORIAN
METHOD:PUBLISH
X-WR-CALNAME:OptieAcademy
X-ORIGINAL-URL:https://www.optieacademy.nl
X-WR-CALDESC:Evenementen voor OptieAcademy
BEGIN:VTIMEZONE
TZID:Europe/Paris
BEGIN:DAYLIGHT
TZOFFSETFROM:+0100
TZOFFSETTO:+0200
TZNAME:CEST
DTSTART:20150329T010000
END:DAYLIGHT
BEGIN:STANDARD
TZOFFSETFROM:+0200
TZOFFSETTO:+0100
TZNAME:CET
DTSTART:20151025T010000
END:STANDARD
END:VTIMEZONE
BEGIN:VEVENT
DTSTART;TZID=Europe/Paris:20151003T083000
DTEND;TZID=Europe/Paris:20151003T163000
DTSTAMP:20260421T061406
CREATED:20151001T215116Z
LAST-MODIFIED:20151001T215116Z
UID:9320-1443861000-1443889800@www.optieacademy.nl
SUMMARY:Masterclass 1 Opleidingstraject Opties
DESCRIPTION:Masterclass speciaal voor deelnemers Opleidingstraject Opties  \n
URL:https://www.optieacademy.nl/programma/masterclass-1-opleidingstraject-opties-3/
LOCATION:Golfclub Kromme rijn\, Sportlaan 6\, Bunnik\, 3981 HP\, Nederland
END:VEVENT
END:VCALENDAR