BEGIN:VCALENDAR
VERSION:2.0
PRODID:-//OptieAcademy - ECPv5.1.5//NONSGML v1.0//EN
CALSCALE:GREGORIAN
METHOD:PUBLISH
X-WR-CALNAME:OptieAcademy
X-ORIGINAL-URL:https://www.optieacademy.nl
X-WR-CALDESC:Evenementen voor OptieAcademy
BEGIN:VTIMEZONE
TZID:Europe/Paris
BEGIN:DAYLIGHT
TZOFFSETFROM:+0100
TZOFFSETTO:+0200
TZNAME:CEST
DTSTART:20150329T010000
END:DAYLIGHT
BEGIN:STANDARD
TZOFFSETFROM:+0200
TZOFFSETTO:+0100
TZNAME:CET
DTSTART:20151025T010000
END:STANDARD
END:VTIMEZONE
BEGIN:VEVENT
DTSTART;VALUE=DATE:20151011
DTEND;VALUE=DATE:20151019
DTSTAMP:20260421T044921
CREATED:20150707T191312Z
LAST-MODIFIED:20150929T124928Z
UID:9003-1444521600-1445212799@www.optieacademy.nl
SUMMARY:Live Trading Week Alicante OptieAcademy
DESCRIPTION:Ontspannen in Spanje\, oftewel: Traden en vakantie houden in Alicante\, hoe zou dat zijn? Er is veel te doen in Alicante\, dus een week is ideaal om in de schitterende Spaanse kustplaats te verblijven. We zullen onze kansen willen benutten op de beurs met verschillende beleggingsproducten. Daarnaast zal er voldoende tijd zijn voor ontspanning . \n\nNaast de coaches Harry Klip en Jan Robert Schutte van OptieAcademy\, zullen ook de professionele DAX- en Bund-trader Jurjen Damsté en de professionele valuta-trader Aloys Mattijssen aanwezig zijn om u te coachen met het traden. \n \nWe organiseren van zondag 11 tot en met zondag 18 oktober deze unieke Trading week. Het voordeel van deze Trading Week in oktober is dat het aangenaam\, maar niet te warm is: gemiddelde temperatuur in oktober is 24 graden Celsius. \n  \nProgramma: Traders\nZondag 11 oktober: Vertrek uit vanaf Schiphol Amsterdam Airport naar Alicante. \nMaandag 12 tot en met vrijdag 16 oktober: overdag traden en masterclasses van 09:00 uur tot en met 17:35 uur en in de avond ontspanning. \nZondag 18 oktober: recap Tradingweek en later terug naar Nederland \nInclusief 4 sterren Hotel +vliegticket + ontbijt+ dealing room. Diner inclusief op dinsdag 13 en vrijdag 16 oktober\nOp trading dagen water\, thee en koffie inbegrepen. In ieder geval zijn er meerdere ervaren traders aanwezig\, die u helpen met alle zaken die u op het gebied van traden wilt bespreken. OptieAcademy wil van u in deze week een betere belegger maken\, maar wij hebben het beursklimaat in de tradeweek natuurlijk niet in de hand. OptieAcademy en de aanwezige traders hebben echter jarenlange ervaring om in te spelen op actuele situaties op de markten. \nHet is raadzaam om een eigen laptop mee te nemen. \nPrijs: €1.797 (inclusief hotel + vliegticket) \nPartnerprogramma mogelijk op verzoek. \nMocht er voldoende vraag zijn van traders om partners mee te nemen en om hiervoor een speciaal partnerprogramma samen te stellen\, dan kunnen we dat ook verzorgen in samenwerking met onze lokale gids. \nBezienswaardigheden Alicante: \nCastilo de Santa Barbara: Kasteel op de berg \nEl Barrio: Traditionele historische wijk \nExplanade de Espana: Boulevard waar iedereen elkaar ontmoet \nCarrer Major: Een straat vol gezelligheid en lekkere cocktails \nLa Taberna del Gourmet: Een heerlijk restaurant\n\nEr zijn nog 4 plaatsen beschikbaar. \nHeeft u interesse om deel te nemen aan de Trading Week\, dan kunt u zich aanmelden via onderstaande contactgegevens: \nMet vriendelijke groeten\,\nOptieAcademy\nVoor een optie-maal resultaat \nJan Robert Schutte 06-50746210 en Harry Klip 06-31903957\nE-mail: info@optieacademy.nl \n
URL:https://www.optieacademy.nl/programma/live-trading-week-alicante/
LOCATION:Alicante\, Alicante\, C/ Pintor Lorenzo Casanova\, 31\, 03003\, Spanje
END:VEVENT
END:VCALENDAR