BEGIN:VCALENDAR
VERSION:2.0
PRODID:-//OptieAcademy - ECPv5.1.5//NONSGML v1.0//EN
CALSCALE:GREGORIAN
METHOD:PUBLISH
X-WR-CALNAME:OptieAcademy
X-ORIGINAL-URL:https://www.optieacademy.nl
X-WR-CALDESC:Evenementen voor OptieAcademy
BEGIN:VTIMEZONE
TZID:Europe/Paris
BEGIN:DAYLIGHT
TZOFFSETFROM:+0100
TZOFFSETTO:+0200
TZNAME:CEST
DTSTART:20140330T010000
END:DAYLIGHT
BEGIN:STANDARD
TZOFFSETFROM:+0200
TZOFFSETTO:+0100
TZNAME:CET
DTSTART:20141026T010000
END:STANDARD
END:VTIMEZONE
BEGIN:VEVENT
DTSTART;TZID=Europe/Paris:20140926T090000
DTEND;TZID=Europe/Paris:20140926T170000
DTSTAMP:20260423T113202
CREATED:20140821T103741Z
LAST-MODIFIED:20140821T105519Z
UID:7638-1411722000-1411750800@www.optieacademy.nl
SUMMARY:Live Trading Masterclass met Opties BeursBulletin & OptieAcademy
DESCRIPTION:Gedurende de handelsdag zullen Harm van Wijk\, Jan Robert Schutte en Harry Klip live setups en triggers behandelen en mogelijke kansen benutten in de markt met opties. \n\nLive Trading met opties o.b.v. cyclus methode\nWinstkansen vergroten\, risico’s beperken\nTiming technieken o.b.v. cyclusmethode\nOptiestrategieën: directioneel\, (ratio)driepoten\, short strangles\, butterflies\, (ratio)spreads\nGoed moneymanagement toe te passen\nTrading-journaal dat u als deelnemer ook van ons zult ontvangen.\n\nWij zullen live gaan handelen zodra er kansen zijn en u kunt desgewenst ook live gaan traden of anders kennis te nemen van de praktijk. \nDeze geheel verzorgde dag voor € 297 (inclusief BTW) zal op vrijdag 22 augustus op de Golfclub Kromme Rijn te Bunnik plaatsvinden van 09:00 uur tot 17:00 uur. De routebeschrijving vindt u hier… \nAls u interesse heeft in deze praktijkgerichte Live Trading Masterclass\, dan vernemen we dat graag van u via onderstaande contactgegevens. \nOptieAcademy\nVoor een optie-maal resultaat \nJan Robert Schutte 06-50746210 en Harry Klip 06-31903957\nWebsite: OptieAcademy\n \nE-mail: info@optieacademy.nl\n
URL:https://www.optieacademy.nl/programma/live-trading-masterclass-met-opties-beursbulletin-optieacademy/
LOCATION:Golfclub Kromme rijn\, Sportlaan 6\, Bunnik\, 3981 HP\, Nederland
ORGANIZER;CN="OptieAcademy%2FBeursBulletin":MAILTO:info@optieacademy.nl
END:VEVENT
END:VCALENDAR