BEGIN:VCALENDAR
VERSION:2.0
PRODID:-//OptieAcademy - ECPv5.1.5//NONSGML v1.0//EN
CALSCALE:GREGORIAN
METHOD:PUBLISH
X-WR-CALNAME:OptieAcademy
X-ORIGINAL-URL:https://www.optieacademy.nl
X-WR-CALDESC:Evenementen voor OptieAcademy
BEGIN:VTIMEZONE
TZID:Europe/Paris
BEGIN:DAYLIGHT
TZOFFSETFROM:+0100
TZOFFSETTO:+0200
TZNAME:CEST
DTSTART:20150329T010000
END:DAYLIGHT
BEGIN:STANDARD
TZOFFSETFROM:+0200
TZOFFSETTO:+0100
TZNAME:CET
DTSTART:20151025T010000
END:STANDARD
END:VTIMEZONE
BEGIN:VEVENT
DTSTART;TZID=Europe/Paris:20151113T190000
DTEND;TZID=Europe/Paris:20151113T220000
DTSTAMP:20260420T194309
CREATED:20151031T212651Z
LAST-MODIFIED:20151031T212651Z
UID:9414-1447441200-1447452000@www.optieacademy.nl
SUMMARY:Live Trading en Reünie Alicante Trading Week
DESCRIPTION:Deze avond staat in het teken van Live Trading en Reünie Alicante Trading Week. Aloys Mattijssen en Jurjen Damste zullen ook komen. \n \n
URL:https://www.optieacademy.nl/programma/live-trading-en-reunie-alicante-trading-week/
LOCATION:Golfclub Kromme rijn\, Sportlaan 6\, Bunnik\, 3981 HP\, Nederland
END:VEVENT
END:VCALENDAR