BEGIN:VCALENDAR
VERSION:2.0
PRODID:-//OptieAcademy - ECPv5.1.5//NONSGML v1.0//EN
CALSCALE:GREGORIAN
METHOD:PUBLISH
X-WR-CALNAME:OptieAcademy
X-ORIGINAL-URL:https://www.optieacademy.nl
X-WR-CALDESC:Evenementen voor OptieAcademy
BEGIN:VTIMEZONE
TZID:Europe/Paris
BEGIN:DAYLIGHT
TZOFFSETFROM:+0100
TZOFFSETTO:+0200
TZNAME:CEST
DTSTART:20140330T010000
END:DAYLIGHT
BEGIN:STANDARD
TZOFFSETFROM:+0200
TZOFFSETTO:+0100
TZNAME:CET
DTSTART:20141026T010000
END:STANDARD
END:VTIMEZONE
BEGIN:VEVENT
DTSTART;TZID=Europe/Paris:20140927T123000
DTEND;TZID=Europe/Paris:20140927T180000
DTSTAMP:20260423T101129
CREATED:20140828T140321Z
LAST-MODIFIED:20140920T181540Z
UID:7649-1411821000-1411840800@www.optieacademy.nl
SUMMARY:OptieAcademy bij Dag van de Trader in Maarsbergen
DESCRIPTION:Gratis voor premium leden\, voor free members €49\,-\n \nMet: Jim Tehupuring – Alois Mattijssen- Michael Ahrens – Michael Groenewoud – Harry Klip & Jan Robert Schutte – Selwyn Duijvestijn – Nico Bakker \nOptieAcademy spreekt ook op zaterdag 27 september op de Dag van de Trader. U kunt 2 keer een sessie bijwonen in drie verschillende workshopzalen\, verzorgd door 6 toptraders. Na de workshops nemen alle deelnemende sprekers zitting in het forum in de grote zaal. Dit forum wordt gepresenteerd door Jim Tehupuring\, hetgeen garant zal staan voor een spetterende tradingshow! De dag wordt afgesloten met een borrel. \nInformatie kunt u ook opvragen via info@optieacademy.nl \nVoorkom teleurstelling en schrijf u tijdig in voor dit evenement! \nSchrijf u nu in \nTijdens de inschrijving wordt u alvast gevraagd een keuze te maken uit het programma: \n\n\n\nTijdens de inschrijving wordt u alvast gevraagd een keuze te maken uit het programma:Ontvangst\n12:30 – 13:00 \n13:00 – 14:00\n– Selwyn Duijvestijn (actief traden met derivaten)\n– Aloys Mattijssen (systematisch handelen in valuta)\n– Michael Groenewoud (mechanisch handelssysteem) \n14:30 – 15:30\n– Nico Bakker (technische analyse)\n– Michael Ahrens (cycle trading)\n– Harry Klip & Jan Robert Schutte (optiestrategieën) \n16:00 – 17:00\nForum (alle deelnemers)\nPresentator forum: Jim Tehupuring \n17:00 – 18:00\nBorrel \nLocatie: Hotel Maarsbergen aan de A12. Parkeren is gratis.\n\n\n\nDatum: 27-09-2014\nTijd:     12:30 tot 18:00\nLocatie: Hotel Maarsbergen te Maarsbergen\n\n\n\n
URL:https://www.optieacademy.nl/programma/dag-van-de-trader/
LOCATION:Hotel Maarsbergen\, Woudenbergseweg 44\, Maarsbergen\, Utrecht\, 3953 MH\, Nederland
END:VEVENT
END:VCALENDAR