BEGIN:VCALENDAR
VERSION:2.0
PRODID:-//OptieAcademy - ECPv5.1.5//NONSGML v1.0//EN
CALSCALE:GREGORIAN
METHOD:PUBLISH
X-WR-CALNAME:OptieAcademy
X-ORIGINAL-URL:https://www.optieacademy.nl
X-WR-CALDESC:Evenementen voor OptieAcademy
BEGIN:VTIMEZONE
TZID:Europe/Paris
BEGIN:DAYLIGHT
TZOFFSETFROM:+0100
TZOFFSETTO:+0200
TZNAME:CEST
DTSTART:20140330T010000
END:DAYLIGHT
BEGIN:STANDARD
TZOFFSETFROM:+0200
TZOFFSETTO:+0100
TZNAME:CET
DTSTART:20141026T010000
END:STANDARD
END:VTIMEZONE
BEGIN:VEVENT
DTSTART;TZID=Europe/Paris:20141122T090000
DTEND;TZID=Europe/Paris:20141122T173000
DTSTAMP:20260423T101249
CREATED:20141019T204106Z
LAST-MODIFIED:20141107T164346Z
UID:7842-1416646800-1416677400@www.optieacademy.nl
SUMMARY:Crash Masterclass i.s.m. From 1k to 1 million
DESCRIPTION:OptieAcademy en Paul van Gompel\, auteur van From 1k to 1 million \, organiseren samen een unieke Crash Masterclass.\n\nDe afgelopen weken heeft u kunnen ervaren dat de beurs fors lager kan. Aan deze daling kon u veel geld verdienen\, maar slechts weinigen hebben dat ook gedaan. Daarom organiseren OptieAcademy en Paul van Gompel een Crash Masterclass\, zodat u bij een volgende crash wel kunt profiteren. Na deze intensieve en interactieve dag\, kunt u zelfstandig posities innemen om in te spelen op een crash. U krijgt strategieën aangereikt hoe u tot zelfs 1 miljoen kunt verdienen in een dalende markt. Enerzijds leert u hoe u uw portefeuille met opties kunt beschermen tegen een mogelijke crash. Anderzijds leert u hoe u veel geld kunt verdienen aan een crash door het juist toepassen van opties. \nFrom 1K to 1 Million\nIn deze volledig verzorgde dagsessie komen de grieken van opties aan bod\, alsmede diverse volatility strategieën en alternatieve mogelijkheden om in te spelen op de VIX\, de zogenaamde paniekindicator. \nDaarnaast wordt aandacht geschonken aan Technische Analyse en hoe deze om te zetten in handelsstrategieën. Dus wanneer in- en uit de markt te stappen en welke optiestrategie toe te passen. \nU leert: \n\nHoe 1 miljoen kan worden verdiend met een crash\nHoe uw portefeuille te beschermen tegen een crash\nOptiestrategieën op basis van indices\, zoals de AEX\, S&P500 en de VIX.\nWelke interessante volatility strategieën toe te passen\nEffect van optiegrieken\nKansrijke optiestrategieën toe te passen in een fors dalende markt.\n\nLocatie: Golfclub Kromme Rijn Bunnik. Van 09:00 uur tot 17:30 uur met aansluitende borrel. Maximaal aantal personen: 15. \nGeheel verzorgde dag voor €397\nDeze masterclass voor €397 is geheel verzorgd met lunch\, koffie\, thee\, frisdrank en gratis parkeerplaats. \n Bonussen \n\n2 maanden Optie Aanbevelingen t.w.v. €151\n1 e-book naar keuze t.w.v. €77\n1 boek From 1K to 1 Million t.w.v. €35\n\nTotale waarde bonussen: €263 \n[purchase_link id=”7809″ text=”voeg toe aan winkelwagen” style=”button” color=”blue”] \nMail naar info@optieacademy voor meer informatie of bel naar 06-50746210 \nOver Paul van Gompel\nPaul van Gompel is oprichter en eigenaar van From 1k to 1 Million. Hij is een professionele optiehandelaar geweest bij een market makersbedrijf. Ook is hij aandelentrader geweest bij een hedge fund. Paul is auteur van de gelijknamige best seller: From 1k to 1 Million. \n
URL:https://www.optieacademy.nl/programma/crash-masterclass-i-s-m-from-1k-to-1-million/
LOCATION:Golfclub Kromme rijn\, Sportlaan 6\, Bunnik\, 3981 HP\, Nederland
END:VEVENT
END:VCALENDAR