BEGIN:VCALENDAR
VERSION:2.0
PRODID:-//OptieAcademy - ECPv5.1.5//NONSGML v1.0//EN
CALSCALE:GREGORIAN
METHOD:PUBLISH
X-WR-CALNAME:OptieAcademy
X-ORIGINAL-URL:https://www.optieacademy.nl
X-WR-CALDESC:Evenementen voor OptieAcademy
BEGIN:VTIMEZONE
TZID:Europe/Paris
BEGIN:DAYLIGHT
TZOFFSETFROM:+0100
TZOFFSETTO:+0200
TZNAME:CEST
DTSTART:20160327T010000
END:DAYLIGHT
BEGIN:STANDARD
TZOFFSETFROM:+0200
TZOFFSETTO:+0100
TZNAME:CET
DTSTART:20161030T010000
END:STANDARD
END:VTIMEZONE
BEGIN:VEVENT
DTSTART;TZID=Europe/Paris:20160611T130000
DTEND;TZID=Europe/Paris:20160611T180000
DTSTAMP:20260422T193701
CREATED:20160419T152521Z
LAST-MODIFIED:20160610T193411Z
UID:10024-1465650000-1465668000@www.optieacademy.nl
SUMMARY:Optie Trading Masterclass voor Gevorderden
DESCRIPTION:Deze praktijkgerichte avond staat in het teken van Optie Trading\, waarbij we op zoek gaan naar kansen in de markt en behandelen we tevens andere onderwerpen die coachingsdeelnemers aanreiken. \n
URL:https://www.optieacademy.nl/programma/10024/
END:VEVENT
END:VCALENDAR